BEGIN:VCALENDAR
VERSION:2.0
PRODID:-//Weingut Gebrüder Nittnaus - ECPv6.3.3.1//NONSGML v1.0//EN
CALSCALE:GREGORIAN
METHOD:PUBLISH
X-ORIGINAL-URL:https://www.dev.nittnaus.net
X-WR-CALDESC:Veranstaltungen für Weingut Gebrüder Nittnaus
REFRESH-INTERVAL;VALUE=DURATION:PT1H
X-Robots-Tag:noindex
X-PUBLISHED-TTL:PT1H
BEGIN:VTIMEZONE
TZID:Europe/Vienna
BEGIN:DAYLIGHT
TZOFFSETFROM:+0100
TZOFFSETTO:+0200
TZNAME:CEST
DTSTART:20200329T010000
END:DAYLIGHT
BEGIN:STANDARD
TZOFFSETFROM:+0200
TZOFFSETTO:+0100
TZNAME:CET
DTSTART:20201025T010000
END:STANDARD
END:VTIMEZONE
BEGIN:VEVENT
DTSTART;TZID=Europe/Vienna:20200302T153000
DTEND;TZID=Europe/Vienna:20200302T203000
DTSTAMP:20260426T041110
CREATED:20200210T085025Z
LAST-MODIFIED:20200715T093201Z
UID:2906-1583163000-1583181000@www.dev.nittnaus.net
SUMMARY:Wein Burgenland Präsentation Hofburg Wien 2020
DESCRIPTION:
URL:https://www.dev.nittnaus.net/event/wein-burgenland-praesentation-hofburg-wien-2020/
LOCATION:Wiener Hofburg\, Michaelerkuppel\, Wien\, 1010\, Österreich
END:VEVENT
END:VCALENDAR