BEGIN:VCALENDAR
VERSION:2.0
PRODID:-//Weingut Gebrüder Nittnaus - ECPv6.3.3.1//NONSGML v1.0//EN
CALSCALE:GREGORIAN
METHOD:PUBLISH
X-WR-CALNAME:Weingut Gebrüder Nittnaus
X-ORIGINAL-URL:https://www.dev.nittnaus.net
X-WR-CALDESC:Veranstaltungen für Weingut Gebrüder Nittnaus
REFRESH-INTERVAL;VALUE=DURATION:PT1H
X-Robots-Tag:noindex
X-PUBLISHED-TTL:PT1H
BEGIN:VTIMEZONE
TZID:UTC
BEGIN:STANDARD
TZOFFSETFROM:+0000
TZOFFSETTO:+0000
TZNAME:UTC
DTSTART:20200101T000000
END:STANDARD
END:VTIMEZONE
BEGIN:VEVENT
DTSTART;TZID=UTC:20200715T112518
DTEND;TZID=UTC:20200715T112518
DTSTAMP:20260425T193853
CREATED:20161103T075143Z
LAST-MODIFIED:20200715T070241Z
UID:1738-1594812318-1594812318@www.dev.nittnaus.net
SUMMARY:Leithaberg Tasting in Londoner Fine-Dining-Lokal
DESCRIPTION:Am 7.November lädt eine Auswahl der Leithaberg-Winzer ins HKK Hot Spot London\, einem Fine-Dining-Lokal der Hakkasan Group. Von 10:00-12:30 ist die reguläre Verkostung anberaumt. Danach werden ausgewählte Gäste zum exklusiven Lunch geladen\, begleitet mit Weinen von den Leithaberg-Winzern. \n[envira-gallery id=“1740″]
URL:https://www.dev.nittnaus.net/event/leithaberg-tasting-in-londoner-fine-dining-lokal/
END:VEVENT
END:VCALENDAR