BEGIN:VCALENDAR
VERSION:2.0
PRODID:-//Weingut Gebrüder Nittnaus - ECPv6.3.3.1//NONSGML v1.0//EN
CALSCALE:GREGORIAN
METHOD:PUBLISH
X-ORIGINAL-URL:https://www.dev.nittnaus.net
X-WR-CALDESC:Veranstaltungen für Weingut Gebrüder Nittnaus
REFRESH-INTERVAL;VALUE=DURATION:PT1H
X-Robots-Tag:noindex
X-PUBLISHED-TTL:PT1H
BEGIN:VTIMEZONE
TZID:Europe/Vienna
BEGIN:DAYLIGHT
TZOFFSETFROM:+0100
TZOFFSETTO:+0200
TZNAME:CEST
DTSTART:20230326T010000
END:DAYLIGHT
BEGIN:STANDARD
TZOFFSETFROM:+0200
TZOFFSETTO:+0100
TZNAME:CET
DTSTART:20231029T010000
END:STANDARD
END:VTIMEZONE
BEGIN:VEVENT
DTSTART;TZID=Europe/Vienna:20230620T180000
DTEND;TZID=Europe/Vienna:20230620T220000
DTSTAMP:20260423T125942
CREATED:20230601T131532Z
LAST-MODIFIED:20230601T131532Z
UID:7594-1687284000-1687298400@www.dev.nittnaus.net
SUMMARY:Gebrüder Nittnaus @Summerstage
DESCRIPTION:Erlebe den perfekten Sommerabend und genieße mit uns unsere typisch burgenländischen Weine in Wiens Genussoase\, mitten in der Stadt\, direkt am Wasser\, gepaart mit kulinarischen Schmankerln.​\nWo? Summerstage am Donaukanal​\nWann? 20. Juni 2023\, 18 – 22 Uhr​\nJetzt eines von nur 40 limitierten Tickets sichern!​\n​\nTickets: https://www.eventbrite.at/e/gebruder-nittnaus-summerstage-tickets-637101245977
URL:https://www.dev.nittnaus.net/event/gebrueder-nittnaus-summerstage/
ATTACH;FMTTYPE=image/jpeg:https://www.dev.nittnaus.net/wp-content/uploads/2023/06/Nittnaus_Sommer-Event-2023_FB-Titelbild-1.jpg
END:VEVENT
END:VCALENDAR